BEGIN:VCALENDAR
VERSION:2.0
PRODID:-//Identity.org - ECPv6.15.20//NONSGML v1.0//EN
CALSCALE:GREGORIAN
METHOD:PUBLISH
X-WR-CALNAME:Identity.org
X-ORIGINAL-URL:https://www.identity.org
X-WR-CALDESC:Events for Identity.org
REFRESH-INTERVAL;VALUE=DURATION:PT1H
X-Robots-Tag:noindex
X-PUBLISHED-TTL:PT1H
BEGIN:VTIMEZONE
TZID:America/Los_Angeles
BEGIN:DAYLIGHT
TZOFFSETFROM:-0800
TZOFFSETTO:-0700
TZNAME:PDT
DTSTART:20250309T100000
END:DAYLIGHT
BEGIN:STANDARD
TZOFFSETFROM:-0700
TZOFFSETTO:-0800
TZNAME:PST
DTSTART:20251102T090000
END:STANDARD
BEGIN:DAYLIGHT
TZOFFSETFROM:-0800
TZOFFSETTO:-0700
TZNAME:PDT
DTSTART:20260308T100000
END:DAYLIGHT
BEGIN:STANDARD
TZOFFSETFROM:-0700
TZOFFSETTO:-0800
TZNAME:PST
DTSTART:20261101T090000
END:STANDARD
BEGIN:DAYLIGHT
TZOFFSETFROM:-0800
TZOFFSETTO:-0700
TZNAME:PDT
DTSTART:20270314T100000
END:DAYLIGHT
BEGIN:STANDARD
TZOFFSETFROM:-0700
TZOFFSETTO:-0800
TZNAME:PST
DTSTART:20271107T090000
END:STANDARD
END:VTIMEZONE
BEGIN:VEVENT
DTSTART;TZID=America/Los_Angeles:20260622T080000
DTEND;TZID=America/Los_Angeles:20260622T170000
DTSTAMP:20260420T053634
CREATED:20260416T011408Z
LAST-MODIFIED:20260417T171426Z
UID:3230-1782115200-1782147600@www.identity.org
SUMMARY:Ethics in Synthesis
DESCRIPTION:An intensive hands-on workshop for creators and legal professionals. We’ll explore the practical application of the ELVIS Act and similar protections.
URL:https://www.identity.org/event/ethics-in-synthesis/
LOCATION:New York\, NY
CATEGORIES:Upcoming
END:VEVENT
BEGIN:VEVENT
DTSTART;TZID=America/Los_Angeles:20261114T080000
DTEND;TZID=America/Los_Angeles:20261114T170000
DTSTAMP:20260420T053634
CREATED:20260415T215658Z
LAST-MODIFIED:20260415T225247Z
UID:3205-1794643200-1794675600@www.identity.org
SUMMARY:AI Safety Summit 2026
DESCRIPTION:A global gathering of policy makers and researchers to establish safety frameworks for next-generation synthesis models. We will be presenting our research on individual likeness rights.
URL:https://www.identity.org/event/ai-safety-summit-2026/
LOCATION:London\, Uk
CATEGORIES:Upcoming
END:VEVENT
BEGIN:VEVENT
DTSTART;TZID=America/Los_Angeles:20261205T080000
DTEND;TZID=America/Los_Angeles:20261205T170000
DTSTAMP:20260420T053634
CREATED:20260416T011044Z
LAST-MODIFIED:20260417T171408Z
UID:3229-1796457600-1796490000@www.identity.org
SUMMARY:Digital Likeness Symposium
DESCRIPTION:Our annual flagship symposium focusing on the technical and ethical boundaries of digital cloning. Featuring speakers from major tech labs and civil rights organizations.
URL:https://www.identity.org/event/digital-likeness-symposium/
CATEGORIES:Open
END:VEVENT
END:VCALENDAR